BEGIN:VCALENDAR
VERSION:2.0
PRODID:-//Aktiv! im Sommer//Event//DE
CALSCALE:GREGORIAN
METHOD:PUBLISH
X-WR-CALNAME:Aktiv! im Sommer Event
X-WR-TIMEZONE:Europe/Zurich
BEGIN:VTIMEZONE
TZID:Europe/Zurich
BEGIN:DAYLIGHT
TZOFFSETFROM:+0100
TZOFFSETTO:+0200
TZNAME:CEST
DTSTART:19700329T020000
RRULE:FREQ=YEARLY;BYMONTH=3;BYDAY=-1SU
END:DAYLIGHT
BEGIN:STANDARD
TZOFFSETFROM:+0200
TZOFFSETTO:+0100
TZNAME:CET
DTSTART:19701025T030000
RRULE:FREQ=YEARLY;BYMONTH=10;BYDAY=-1SU
END:STANDARD
END:VTIMEZONE
BEGIN:VEVENT
UID:568-1779476400@aktivimsommer.ch
DTSTART;TZID=Europe/Zurich:20260522T190000
DTEND;TZID=Europe/Zurich:20260522T200000
DTSTAMP:20260420T011300Z
SUMMARY:Qi Gong
RRULE:FREQ=WEEKLY
LOCATION:Schützenmattpark
URL:https://ais.gsuenderbasel.ch/events/qi-gong/
STATUS:CONFIRMED
SEQUENCE:0
END:VEVENT
END:VCALENDAR
